Package: ALDEx2 Version: 1.41.0 Command: /home/biocbuild/bbs-3.22-bioc/R/bin/R CMD INSTALL ALDEx2 StartedAt: 2025-10-28 15:16:50 -0400 (Tue, 28 Oct 2025) EndedAt: 2025-10-28 15:17:13 -0400 (Tue, 28 Oct 2025) EllapsedTime: 22.4 seconds RetCode: 0 Status: OK