Package: ALDEx2 Version: 1.41.0 Command: /home/biocbuild/bbs-3.22-bioc/R/bin/R CMD build --keep-empty-dirs --no-resave-data --md5 ALDEx2 StartedAt: 2025-10-28 16:10:45 -0400 (Tue, 28 Oct 2025) EndedAt: 2025-10-28 16:12:27 -0400 (Tue, 28 Oct 2025) EllapsedTime: 102.1 seconds RetCode: 0 Status: OK PackageFile: ALDEx2_1.41.0.tar.gz PackageFileSize: 3.034 MiB