Package: AIMS Version: 1.42.0 Command: /home/biocbuild/bbs-3.22-bioc/R/bin/R CMD INSTALL AIMS StartedAt: 2025-10-31 15:21:05 -0400 (Fri, 31 Oct 2025) EndedAt: 2025-10-31 15:21:08 -0400 (Fri, 31 Oct 2025) EllapsedTime: 2.7 seconds RetCode: 0 Status: OK