Package: ADaCGH2 Version: 2.50.0 Command: /Library/Frameworks/R.framework/Resources/bin/R CMD build --keep-empty-dirs --no-resave-data ADaCGH2 StartedAt: 2025-11-10 15:35:31 -0500 (Mon, 10 Nov 2025) EndedAt: 2025-11-10 15:36:19 -0500 (Mon, 10 Nov 2025) EllapsedTime: 48.6 seconds RetCode: 0 Status: OK PackageFile: ADaCGH2_2.50.0.tar.gz PackageFileSize: 1.172 MiB