Package: ADAM Version: 1.25.0 Command: /home/biocbuild/bbs-3.22-bioc/R/bin/R CMD INSTALL ADAM StartedAt: 2025-10-24 15:50:11 -0400 (Fri, 24 Oct 2025) EndedAt: 2025-10-24 15:50:43 -0400 (Fri, 24 Oct 2025) EllapsedTime: 32.1 seconds RetCode: 0 Status: OK