Package: ADAM Version: 1.25.0 Command: /home/biocbuild/bbs-3.22-bioc/R/bin/R CMD build --keep-empty-dirs --no-resave-data --md5 ADAM StartedAt: 2025-10-24 16:18:33 -0400 (Fri, 24 Oct 2025) EndedAt: 2025-10-24 16:19:16 -0400 (Fri, 24 Oct 2025) EllapsedTime: 43.1 seconds RetCode: 0 Status: OK PackageFile: ADAM_1.25.0.tar.gz PackageFileSize: 321.9 KiB