Package: ACME Version: 2.66.0 Command: /home/biocbuild/bbs-3.22-bioc/R/bin/R CMD INSTALL ACME StartedAt: 2025-11-06 15:11:53 -0500 (Thu, 06 Nov 2025) EndedAt: 2025-11-06 15:11:59 -0500 (Thu, 06 Nov 2025) EllapsedTime: 5.8 seconds RetCode: 0 Status: OK