Package: ABarray Version: 1.78.0 Command: /home/biocbuild/R/R/bin/R CMD INSTALL ABarray StartedAt: 2025-11-13 21:20:03 -0000 (Thu, 13 Nov 2025) EndedAt: 2025-11-13 21:20:14 -0000 (Thu, 13 Nov 2025) EllapsedTime: 10.8 seconds RetCode: 0 Status: OK