Package: ABarray Version: 1.78.0 Command: /home/biocbuild/R/R/bin/R CMD build --keep-empty-dirs --no-resave-data ABarray StartedAt: 2025-11-13 23:19:18 -0000 (Thu, 13 Nov 2025) EndedAt: 2025-11-13 23:19:33 -0000 (Thu, 13 Nov 2025) EllapsedTime: 15.0 seconds RetCode: 0 Status: OK PackageFile: ABarray_1.78.0.tar.gz PackageFileSize: 667.5 KiB