Package: ABarray Version: 1.77.0 Command: /Library/Frameworks/R.framework/Resources/bin/R CMD INSTALL ABarray StartedAt: 2025-10-27 15:14:00 -0400 (Mon, 27 Oct 2025) EndedAt: 2025-10-27 15:14:19 -0400 (Mon, 27 Oct 2025) EllapsedTime: 18.8 seconds RetCode: 0 Status: OK