Package: ABarray Version: 1.77.0 Command: /Library/Frameworks/R.framework/Resources/bin/R CMD build --keep-empty-dirs --no-resave-data ABarray StartedAt: 2025-10-24 15:38:17 -0400 (Fri, 24 Oct 2025) EndedAt: 2025-10-24 15:38:25 -0400 (Fri, 24 Oct 2025) EllapsedTime: 8.1 seconds RetCode: 0 Status: OK PackageFile: ABarray_1.77.0.tar.gz PackageFileSize: 686 KiB