Package: sequencing Version: 1.32.0 Command: E:\biocbuild\bbs-3.21-bioc\R\bin\R.exe CMD INSTALL sequencing StartedAt: 2025-04-29 13:08:45 -0400 (Tue, 29 Apr 2025) EndedAt: 2025-04-29 13:09:21 -0400 (Tue, 29 Apr 2025) EllapsedTime: 35.6 seconds RetCode: 0 Status: OK