Package: sequencing Version: 1.32.0 Command: chmod a+r sequencing -R && E:\biocbuild\bbs-3.21-bioc\R\bin\R.exe CMD build --keep-empty-dirs --no-resave-data sequencing StartedAt: 2025-05-02 13:13:19 -0400 (Fri, 02 May 2025) EndedAt: 2025-05-02 13:14:41 -0400 (Fri, 02 May 2025) EllapsedTime: 81.5 seconds RetCode: 0 Status: OK PackageFile: sequencing_1.32.0.tar.gz PackageFileSize: 403.7 KiB