Package: seqpac Version: 1.7.0 Command: chmod a+r seqpac -R && E:\biocbuild\bbs-3.21-bioc\R\bin\R.exe CMD build --keep-empty-dirs --no-resave-data seqpac StartedAt: 2025-02-07 13:15:37 -0500 (Fri, 07 Feb 2025) EndedAt: 2025-02-07 13:17:11 -0500 (Fri, 07 Feb 2025) EllapsedTime: 94.5 seconds RetCode: 1 Status: ERROR PackageFile: None PackageFileSize: NA