Package: seqpac Version: 1.7.0 Command: /home/biocbuild/bbs-3.21-bioc/R/bin/R CMD build --keep-empty-dirs --no-resave-data seqpac StartedAt: 2025-01-28 13:09:24 -0500 (Tue, 28 Jan 2025) EndedAt: 2025-01-28 13:10:38 -0500 (Tue, 28 Jan 2025) EllapsedTime: 73.1 seconds RetCode: 1 Status: ERROR PackageFile: None PackageFileSize: NA