Package: rnaseqDTU Version: 1.27.0 Command: /home/biocbuild/bbs-3.21-bioc/R/bin/R CMD build --keep-empty-dirs --no-resave-data rnaseqDTU StartedAt: 2025-01-31 13:08:00 -0500 (Fri, 31 Jan 2025) EndedAt: 2025-01-31 13:10:03 -0500 (Fri, 31 Jan 2025) EllapsedTime: 123.0 seconds RetCode: 0 Status: OK PackageFile: rnaseqDTU_1.27.0.tar.gz PackageFileSize: 8.745 MiB