Package: rnaseqDTU Version: 1.27.0 Command: /Library/Frameworks/R.framework/Resources/bin/R CMD build --keep-empty-dirs --no-resave-data rnaseqDTU StartedAt: 2025-01-31 13:07:18 -0500 (Fri, 31 Jan 2025) EndedAt: 2025-01-31 13:08:58 -0500 (Fri, 31 Jan 2025) EllapsedTime: 100.2 seconds RetCode: 0 Status: OK PackageFile: rnaseqDTU_1.27.0.tar.gz PackageFileSize: 8.758 MiB