Package: recountWorkflow Version: 1.31.0 Maintainer: Leonardo Collado-Torres MaintainerEmail: lcolladotor at gmail.com git_url: https://git.bioconductor.org/packages/recountWorkflow git_branch: devel git_last_commit: 0137161 git_last_commit_date: 2024-12-10 16:30:30 -0500 (Tue, 10 Dec 2024)