Package: methylationArrayAnalysis Version: 1.32.0 Command: /Library/Frameworks/R.framework/Resources/bin/R CMD INSTALL methylationArrayAnalysis StartedAt: 2025-10-10 13:02:45 -0400 (Fri, 10 Oct 2025) EndedAt: 2025-10-10 13:10:18 -0400 (Fri, 10 Oct 2025) EllapsedTime: 452.8 seconds RetCode: 0 Status: OK