Package: fluentGenomics Version: 1.20.0 Command: /Library/Frameworks/R.framework/Resources/bin/R CMD INSTALL fluentGenomics StartedAt: 2025-10-14 13:00:41 -0400 (Tue, 14 Oct 2025) EndedAt: 2025-10-14 13:02:29 -0400 (Tue, 14 Oct 2025) EllapsedTime: 108.1 seconds RetCode: 0 Status: OK