Package: fluentGenomics Version: 1.20.0 Maintainer: Stuart Lee MaintainerEmail: stuart.andrew.lee at gmail.com git_url: https://git.bioconductor.org/packages/fluentGenomics git_branch: RELEASE_3_21 git_last_commit: c883bf5 git_last_commit_date: 2025-04-15 10:29:43 -0400 (Tue, 15 Apr 2025)