Package: chipseqDB Version: 1.31.0 Command: /Library/Frameworks/R.framework/Resources/bin/R CMD INSTALL chipseqDB StartedAt: 2025-01-31 13:00:19 -0500 (Fri, 31 Jan 2025) EndedAt: 2025-01-31 13:00:23 -0500 (Fri, 31 Jan 2025) EllapsedTime: 3.8 seconds RetCode: 0 Status: OK