Package: arrays Version: 1.34.0 Command: E:\biocbuild\bbs-3.21-bioc\R\bin\R.exe CMD INSTALL arrays StartedAt: 2025-07-15 13:01:31 -0400 (Tue, 15 Jul 2025) EndedAt: 2025-07-15 13:01:34 -0400 (Tue, 15 Jul 2025) EllapsedTime: 3.1 seconds RetCode: 0 Status: OK