Package: annotation Version: 1.32.0 Command: E:\biocbuild\bbs-3.21-bioc\R\bin\R.exe CMD INSTALL annotation StartedAt: 2025-05-09 13:02:36 -0400 (Fri, 09 May 2025) EndedAt: 2025-05-09 13:03:09 -0400 (Fri, 09 May 2025) EllapsedTime: 32.5 seconds RetCode: 0 Status: OK