Package: TCGAWorkflow Version: 1.32.0 Command: /Library/Frameworks/R.framework/Resources/bin/R CMD INSTALL TCGAWorkflow StartedAt: 2025-10-07 13:02:20 -0400 (Tue, 07 Oct 2025) EndedAt: 2025-10-07 13:05:28 -0400 (Tue, 07 Oct 2025) EllapsedTime: 187.9 seconds RetCode: 0 Status: OK