Package: SingscoreAMLMutations Version: 1.24.0 Command: /Library/Frameworks/R.framework/Resources/bin/R CMD INSTALL SingscoreAMLMutations StartedAt: 2025-10-14 13:01:43 -0400 (Tue, 14 Oct 2025) EndedAt: 2025-10-14 13:03:42 -0400 (Tue, 14 Oct 2025) EllapsedTime: 118.5 seconds RetCode: 0 Status: OK