Package: SingscoreAMLMutations Version: 1.24.0 Command: /Library/Frameworks/R.framework/Resources/bin/R CMD build --keep-empty-dirs --no-resave-data SingscoreAMLMutations StartedAt: 2025-09-26 14:02:19 -0400 (Fri, 26 Sep 2025) EndedAt: 2025-09-26 14:13:17 -0400 (Fri, 26 Sep 2025) EllapsedTime: 657.3 seconds RetCode: 1 Status: ERROR PackageFile: None PackageFileSize: NA