Package: RNAseq123 Version: 1.32.0 Command: /home/biocbuild/bbs-3.21-bioc/R/bin/R CMD INSTALL RNAseq123 StartedAt: 2025-10-14 13:01:05 -0400 (Tue, 14 Oct 2025) EndedAt: 2025-10-14 13:01:35 -0400 (Tue, 14 Oct 2025) EllapsedTime: 30.0 seconds RetCode: 0 Status: OK