Package: RNAseq123 Version: 1.32.0 Command: /home/biocbuild/bbs-3.21-bioc/R/bin/R CMD build --keep-empty-dirs --no-resave-data RNAseq123 StartedAt: 2025-10-14 13:08:51 -0400 (Tue, 14 Oct 2025) EndedAt: 2025-10-14 13:10:37 -0400 (Tue, 14 Oct 2025) EllapsedTime: 106.0 seconds RetCode: 0 Status: OK PackageFile: RNAseq123_1.32.0.tar.gz PackageFileSize: 6.919 MiB