Package: GeoMxWorkflows Version: 1.14.0 Command: /home/biocbuild/bbs-3.21-bioc/R/bin/R CMD build --keep-empty-dirs --no-resave-data GeoMxWorkflows StartedAt: 2025-10-14 13:04:57 -0400 (Tue, 14 Oct 2025) EndedAt: 2025-10-14 13:44:42 -0400 (Tue, 14 Oct 2025) EllapsedTime: 2385.0 seconds RetCode: 0 Status: OK PackageFile: GeoMxWorkflows_1.14.0.tar.gz PackageFileSize: 22.76 MiB