Package: GeoMxWorkflows Version: 1.14.0 Command: /Library/Frameworks/R.framework/Resources/bin/R CMD INSTALL GeoMxWorkflows StartedAt: 2025-10-14 13:00:50 -0400 (Tue, 14 Oct 2025) EndedAt: 2025-10-14 13:01:43 -0400 (Tue, 14 Oct 2025) EllapsedTime: 53.2 seconds RetCode: 0 Status: OK