Package: GeoMxWorkflows Version: 1.14.0 Command: /Library/Frameworks/R.framework/Resources/bin/R CMD build --keep-empty-dirs --no-resave-data GeoMxWorkflows StartedAt: 2025-09-26 13:15:55 -0400 (Fri, 26 Sep 2025) EndedAt: 2025-09-26 14:47:40 -0400 (Fri, 26 Sep 2025) EllapsedTime: 5504.8 seconds RetCode: 0 Status: OK PackageFile: GeoMxWorkflows_1.14.0.tar.gz PackageFileSize: 23.3 MiB