Package: ExpressionNormalizationWorkflow Version: 1.34.0 Command: E:\biocbuild\bbs-3.21-bioc\R\bin\R.exe CMD INSTALL ExpressionNormalizationWorkflow StartedAt: 2025-07-22 13:01:37 -0400 (Tue, 22 Jul 2025) EndedAt: 2025-07-22 13:02:04 -0400 (Tue, 22 Jul 2025) EllapsedTime: 27.8 seconds RetCode: 0 Status: OK