Package: ExpressionNormalizationWorkflow Version: 1.34.0 Command: chmod a+r ExpressionNormalizationWorkflow -R && E:\biocbuild\bbs-3.21-bioc\R\bin\R.exe CMD build --keep-empty-dirs --no-resave-data ExpressionNormalizationWorkflow StartedAt: 2025-07-25 13:06:34 -0400 (Fri, 25 Jul 2025) EndedAt: 2025-07-25 13:13:59 -0400 (Fri, 25 Jul 2025) EllapsedTime: 445.0 seconds RetCode: 0 Status: OK PackageFile: ExpressionNormalizationWorkflow_1.34.0.tar.gz PackageFileSize: 2.11 MiB