Package: ExpressionNormalizationWorkflow Version: 1.34.0 Maintainer: Karthikeyan Murugesan MaintainerEmail: karthikeyanm60 at yahoo.com git_url: https://git.bioconductor.org/packages/ExpressionNormalizationWorkflow git_branch: RELEASE_3_21 git_last_commit: ca00e7a git_last_commit_date: 2025-04-15 10:28:38 -0400 (Tue, 15 Apr 2025)