Package: ExpHunterSuite Version: 1.15.0 Command: /Library/Frameworks/R.framework/Resources/bin/R CMD INSTALL ExpHunterSuite StartedAt: 2025-01-28 13:01:07 -0500 (Tue, 28 Jan 2025) EndedAt: 2025-01-28 13:02:01 -0500 (Tue, 28 Jan 2025) EllapsedTime: 53.9 seconds RetCode: 0 Status: OK