Package: ExpHunterSuite Version: 1.15.0 Command: /Library/Frameworks/R.framework/Resources/bin/R CMD build --keep-empty-dirs --no-resave-data ExpHunterSuite StartedAt: 2025-01-28 13:03:40 -0500 (Tue, 28 Jan 2025) EndedAt: 2025-01-28 13:07:10 -0500 (Tue, 28 Jan 2025) EllapsedTime: 209.8 seconds RetCode: 0 Status: OK PackageFile: ExpHunterSuite_1.15.0.tar.gz PackageFileSize: 4.112 MiB