Package: BiocMetaWorkflow Version: 1.30.0 Command: /Library/Frameworks/R.framework/Resources/bin/R CMD INSTALL BiocMetaWorkflow StartedAt: 2025-10-14 13:00:28 -0400 (Tue, 14 Oct 2025) EndedAt: 2025-10-14 13:00:41 -0400 (Tue, 14 Oct 2025) EllapsedTime: 13.9 seconds RetCode: 1 Status: ERROR