Package: BiocMetaWorkflow Version: 1.30.0 Command: /Library/Frameworks/R.framework/Resources/bin/R CMD build --keep-empty-dirs --no-resave-data BiocMetaWorkflow StartedAt: 2025-10-14 13:10:21 -0400 (Tue, 14 Oct 2025) EndedAt: 2025-10-14 13:10:24 -0400 (Tue, 14 Oct 2025) EllapsedTime: 2.3 seconds RetCode: 1 Status: ERROR PackageFile: None PackageFileSize: NA