Package: xcoredata Version: 1.11.0 Command: /home/biocbuild/bbs-3.21-bioc/R/bin/R CMD INSTALL xcoredata StartedAt: 2025-01-30 10:57:28 -0500 (Thu, 30 Jan 2025) EndedAt: 2025-01-30 10:57:42 -0500 (Thu, 30 Jan 2025) EllapsedTime: 13.9 seconds RetCode: 0 Status: OK