Package: xcoredata Version: 1.11.0 Command: /home/biocbuild/bbs-3.21-bioc/R/bin/R CMD build --keep-empty-dirs --no-resave-data xcoredata StartedAt: 2025-01-30 11:45:05 -0500 (Thu, 30 Jan 2025) EndedAt: 2025-01-30 11:47:17 -0500 (Thu, 30 Jan 2025) EllapsedTime: 131.3 seconds RetCode: 0 Status: OK PackageFile: xcoredata_1.11.0.tar.gz PackageFileSize: 1.332 MiB