Package: vulcandata Version: 1.30.0 Command: /home/biocbuild/bbs-3.21-bioc/R/bin/R CMD INSTALL vulcandata StartedAt: 2025-10-16 10:55:17 -0400 (Thu, 16 Oct 2025) EndedAt: 2025-10-16 10:55:19 -0400 (Thu, 16 Oct 2025) EllapsedTime: 2.2 seconds RetCode: 0 Status: OK