Package: shinyMethylData Version: 1.27.0 Command: /home/biocbuild/bbs-3.21-bioc/R/bin/R CMD check --install=check:shinyMethylData.install-out.txt --library=/home/biocbuild/bbs-3.21-bioc/R/site-library --timings shinyMethylData_1.27.0.tar.gz StartedAt: 2025-01-30 12:42:46 -0500 (Thu, 30 Jan 2025) EndedAt: 2025-01-30 12:43:04 -0500 (Thu, 30 Jan 2025) EllapsedTime: 17.7 seconds RetCode: 0 Status: WARNINGS CheckDir: shinyMethylData.Rcheck Warnings: 2