Package: sesameData Version: 1.26.0 Command: /home/biocbuild/bbs-3.21-bioc/R/bin/R CMD INSTALL sesameData StartedAt: 2025-10-16 11:03:57 -0400 (Thu, 16 Oct 2025) EndedAt: 2025-10-16 11:04:12 -0400 (Thu, 16 Oct 2025) EllapsedTime: 15.1 seconds RetCode: 0 Status: OK