Package: scanMiRData Version: 1.13.0 Command: /home/biocbuild/bbs-3.21-bioc/R/bin/R CMD INSTALL scanMiRData StartedAt: 2025-02-06 10:58:01 -0500 (Thu, 06 Feb 2025) EndedAt: 2025-02-06 10:58:15 -0500 (Thu, 06 Feb 2025) EllapsedTime: 14.1 seconds RetCode: 0 Status: OK