Package: scanMiRData Version: 1.13.0 Command: /home/biocbuild/bbs-3.21-bioc/R/bin/R CMD check --install=check:scanMiRData.install-out.txt --library=/home/biocbuild/bbs-3.21-bioc/R/site-library --timings scanMiRData_1.13.0.tar.gz StartedAt: 2025-02-06 12:40:03 -0500 (Thu, 06 Feb 2025) EndedAt: 2025-02-06 12:41:49 -0500 (Thu, 06 Feb 2025) EllapsedTime: 106.8 seconds RetCode: 0 Status: OK CheckDir: scanMiRData.Rcheck Warnings: 0