Package: scMultiome Version: 1.7.1 Command: /home/biocbuild/bbs-3.21-bioc/R/bin/R CMD INSTALL scMultiome StartedAt: 2025-02-06 11:02:12 -0500 (Thu, 06 Feb 2025) EndedAt: 2025-02-06 11:02:43 -0500 (Thu, 06 Feb 2025) EllapsedTime: 31.1 seconds RetCode: 0 Status: OK