Package: sampleClassifierData Version: 1.31.0 Command: /home/biocbuild/bbs-3.21-bioc/R/bin/R CMD check --install=check:sampleClassifierData.install-out.txt --library=/home/biocbuild/bbs-3.21-bioc/R/site-library --timings sampleClassifierData_1.31.0.tar.gz StartedAt: 2025-01-30 12:40:23 -0500 (Thu, 30 Jan 2025) EndedAt: 2025-01-30 12:41:58 -0500 (Thu, 30 Jan 2025) EllapsedTime: 95.2 seconds RetCode: 0 Status: OK CheckDir: sampleClassifierData.Rcheck Warnings: 0