Package: raerdata Version: 1.6.0 Command: /home/biocbuild/bbs-3.21-bioc/R/bin/R CMD INSTALL raerdata StartedAt: 2025-05-15 11:01:53 -0400 (Thu, 15 May 2025) EndedAt: 2025-05-15 11:02:28 -0400 (Thu, 15 May 2025) EllapsedTime: 34.6 seconds RetCode: 0 Status: OK