Package: raerdata Version: 1.5.0 Command: /home/biocbuild/bbs-3.21-bioc/R/bin/R CMD build --keep-empty-dirs --no-resave-data raerdata StartedAt: 2025-01-30 11:34:59 -0500 (Thu, 30 Jan 2025) EndedAt: 2025-01-30 11:36:28 -0500 (Thu, 30 Jan 2025) EllapsedTime: 88.8 seconds RetCode: 0 Status: OK PackageFile: raerdata_1.5.0.tar.gz PackageFileSize: 245.8 KiB